BEGIN:VCALENDAR
METHOD:PUBLISH
PRODID:-//github.com/rianjs/ical.net//NONSGML ical.net 4.0//EN
VERSION:2.0
BEGIN:VEVENT
DTSTAMP:20260421T122216Z
DTSTART:20230406T180000
LOCATION:Cincinnati Art Museum
SEQUENCE:0
SUMMARY:SOLD OUT Studio Class: Ceramics – Surface Design
UID:00000000-0000-0000-0000-000000000000
X-ALT-DESC;FMTTYPE=text/html:<p>Engage with a variety of surface treatment
 s for ceramics inspired by the artwork of Roberto Lugo. Learn how to crea
 te layered designs utilizing colored slips\, texture\, underglaze\, and g
 lazes. Students will walk away from this course having learned many intro
 ductory hand-building techniques\, as well as a new repertoire of tools f
 or bringing their ceramic surfaces come to life.</p>\n<p><strong>About th
 e Teaching Artist:</strong></p>\n<p>Emma Robinson is a visual artist spec
 ializing in contemporary ceramics\, figurative sculpture\, and drawing. S
 he received her Bachelor’s degree in Fine Arts from Bowling Green State U
 niversity. Her work is varied\, as she enjoys moving between gestural\, f
 eminine\, decorative pottery and representational figurative sculpture th
 at is concerned with social activism and social awareness. Emma’s artwork
  draws on inspiration from an amalgamation of personal experiences\, part
 icularly\, her love of nature\, animals\, and a desire to learn about and
  promote social change. She is currently affiliated with Queen City Clay\
 , where she completed a long-term residency and teaches a wide range of c
 lasses with a particular emphasis on surface design.</p>\n<p><strong>Regi
 stration is required. Full 6-week course registration only. Children must
  be at least 6 years old to participate. Students under 12 must be accomp
 anied by an adult who is also enrolled in the class.</strong></p>\n<div c
 lass="ewa-rteLine">All artmaking materials will be provided.</div>\n<div 
 class="ewa-rteLine">\n<p>Members $40\, general public $80 </p>\n<hr />\n<
 p><em>To request accessibility accommodations\, please email <a href="mai
 lto:access@cincyart.org">access@cincyart.org</a> at least two weeks befor
 e the event.</em></p>\n</div>
END:VEVENT
END:VCALENDAR
