BEGIN:VCALENDAR
METHOD:PUBLISH
PRODID:-//github.com/rianjs/ical.net//NONSGML ical.net 4.0//EN
VERSION:2.0
BEGIN:VEVENT
DTSTAMP:20260425T125052Z
DTSTART:20260427T130000
LOCATION:Cincinnati Art Museum
SEQUENCE:0
SUMMARY:Public Tours
UID:00000000-0000-0000-0000-000000000000
X-ALT-DESC;FMTTYPE=text/html:<div>\n<p><strong>Free. Registration is not r
 equired.<br>Tours meet in the front lobby.</strong></p>\n<p>Interested in
  exploring our monthly theme? Join us on Tuesdays\, Thursdays\, and Satur
 days for these focused tours. The third Saturday tour includes ASL interp
 retation. The theme for April is flowers in art.</p>\n</div>\n<div>\n<p>W
 ednesday\, Friday\,&nbsp\;and Sunday tours highlight&nbsp\;the collection
 \, offering a unique view every<span>&nbsp\;time.</span>&nbsp\;</p>\n</di
 v>\n<div>\n<p>Thursday evening tours explore our temporary exhibitions.</
 p>\n</div>\n<div>\n<p><strong>Homeschool and school groups as well as gro
 ups of 10 or more people are not permitted on public tours. Please&nbsp\;
 <a href="mailto:tours@cincyart.org" title="mailto:tours@cincyart.org">rea
 ch out to the Tour Coordinator</a>&nbsp\;and&nbsp\;<a href="https://forms
 .office.com/r/krDGu0UPft" title="https://forms.office.com/r/krDGu0UPft">s
 ubmit a tour request form</a>&nbsp\;to ensure the best possible tour for 
 your group.</strong></p>\n</div>\n<div><hr></div>\n<div>\n<p><em>If you n
 eed</em><em>&nbsp\;</em><em>accessibility accommodations\, please contact
  us in advance at&nbsp\;</em><em><a href="mailto:access@cincyart.org" tit
 le="mailto:access@cincyart.org">access@cincyart.org</a></em><em>&nbsp\;</
 em><em>or fill out&nbsp\;</em><em><a href="https://forms.office.com/Pages
 /ResponsePage.aspx?id=Gm-hEwG4gEOJzKydDKuIkMouQ0Sbq_FHq0MNY45l4U1UMTYxM0Z
 JRjFENlBYQzlSWDlWT0NEVDNBNS4u" title="https://forms.office.com/Pages/Resp
 onsePage.aspx?id=Gm-hEwG4gEOJzKydDKuIkMouQ0Sbq_FHq0MNY45l4U1UMTYxM0ZJRjFE
 NlBYQzlSWDlWT0NEVDNBNS4u">the&nbsp\;accessibility request form.</a></em><
 /p>\n</div>
END:VEVENT
END:VCALENDAR
