BEGIN:VCALENDAR
METHOD:PUBLISH
PRODID:-//github.com/rianjs/ical.net//NONSGML ical.net 4.0//EN
VERSION:2.0
BEGIN:VEVENT
DTSTAMP:20260424T092231Z
DTSTART:20250227T183000
LOCATION:Cincinnati Art Museum
SEQUENCE:0
SUMMARY:Public Tour: Shahzia Sikander: Collective Behavior
UID:00000000-0000-0000-0000-000000000000
X-ALT-DESC;FMTTYPE=text/html:<div class="bod">\n<div class="bod">\n<div cl
 ass="bod">\n<div class="bod">\n<p><em>Public tours are always FREE and me
 et in the front lobby.</em></p>\n<p><em>Homeschool and school groups as w
 ell as groups of 10 or more people are not permitted on public tours. Ple
 ase <a href="mailto:tours@cincyart.org">reach out to the Tour Coordinator
 </a> and <a href="https://forms.office.com/r/krDGu0UPft">submit a tour re
 quest form</a> to ensure the best possible tour for your group.</em></p>\
 n<p><em>Image: Shahzia Sikander (Pakistani and American\, b. 1969)\,<span
 > </span>Promiscuous Intimacies\, 2020\, patinated bronze\, Courtesy of J
 oel S. Pizzuti\, © Shahzia Sikander</em></p>\n<hr />\n<p><em>If you need 
 accessibility accommodations\, please contact us in advance at </em><em><
 a href="mailto:access@cincyart.org">access@cincyart.org</a> <a rel="noref
 errer noopener" href="mailto:access@cincyart.org" title="mailto:access@ci
 ncyart.org" data-loopstyle="linkonly" data-linkindex="6" data-ogsc="rgb(2
 25\, 37\, 20)"></a>or fill out <a id="LPlnk667530" rel="noopener noreferr
 er" href="https://forms.office.com/Pages/ResponsePage.aspx?id=Gm-hEwG4gEO
 JzKydDKuIkMouQ0Sbq_FHq0MNY45l4U1UMTYxM0ZJRjFENlBYQzlSWDlWT0NEVDNBNS4u" ta
 rget="_blank" title="https://forms.office.com/Pages/ResponsePage.aspx?id=
 Gm-hEwG4gEOJzKydDKuIkMouQ0Sbq_FHq0MNY45l4U1UMTYxM0ZJRjFENlBYQzlSWDlWT0NEV
 DNBNS4u" data-auth="NotApplicable" data-linkindex="7" data-ogsc="">the ac
 cessibility request form.</a></em></p>\n</div>\n</div>\n</div>\n</div>
END:VEVENT
END:VCALENDAR
