BEGIN:VCALENDAR
METHOD:PUBLISH
PRODID:-//github.com/rianjs/ical.net//NONSGML ical.net 4.0//EN
VERSION:2.0
BEGIN:VEVENT
DTSTAMP:20260421T105452Z
DTSTART:20230107T140000
LOCATION:Cincinnati Art Museum
SEQUENCE:0
SUMMARY:Public Tour: Highlights of CAM's Collection
UID:00000000-0000-0000-0000-000000000000
X-ALT-DESC;FMTTYPE=text/html:<div class="bod">\n<div class="bod">\n<p>Enjo
 y a family-friendly\, docent-led tour and explore highlights of CAM's col
 lection.</p>\n<p><strong><em>Public tours are always FREE and meet in the
  front lobby.</em></strong></p>\n<p><em>Homeschool and school groups as w
 ell as groups of 10 or more people are not permitted on public tours. Ple
 ase reach out to the Tour Coordinator and submit a tour request form on o
 ur Tours Home page—this ensures the best possible tour for your group.</e
 m></p>\n<hr />\n<p><em>If you need accessibility accommodations for this 
 program or event\, please email <a href="mailto:access@cincyart.org">acce
 ss@cincyart.org</a>. Please contact us at least two weeks in advance to e
 nsure accommodations can be made.</em></p>\n</div>\n</div>
END:VEVENT
END:VCALENDAR
