BEGIN:VCALENDAR
METHOD:PUBLISH
PRODID:-//github.com/rianjs/ical.net//NONSGML ical.net 4.0//EN
VERSION:2.0
BEGIN:VEVENT
DTSTAMP:20260423T133611Z
DTSTART:20210708T170000
LOCATION:Cincinnati Art Museum
SEQUENCE:0
SUMMARY:Members Opening – Paintings\, Politics and the Monuments Men: The 
 Berlin Masterpieces in America
UID:00000000-0000-0000-0000-000000000000
X-ALT-DESC;FMTTYPE=text/html:<p>From the Nazis’ exploitation of artworks t
 o the protection and restitution efforts of the Monuments Men\, art and p
 olitics were frequently intertwined in the World War II era. This exhibit
 ion focuses on the fate of 200 of the finest European paintings from the 
 Berlin State Museums that traveled to the United States soon after the en
 d of the war and were exhibited at museums across the country before retu
 rning to Germany. Walter Farmer\, Cincinnatian and supporter of the arts\
 , led the Monuments Men’s protest against the paintings’ controversial tr
 ansfer from Germany. Featuring paintings that made the journey\, the exhi
 bition delves into the complex role of artworks in a time of social uphea
 val and war\, and highlights the importance of tracing the movements and 
 uses of cultural treasures.</p>\n<p>Reservations are recommended on cinci
 nnatiartmuseum.org/membership. For up to date information related to COVI
 D-19 safety regulations please visit cincinnatiartmuseum.org. Reservation
 s for dinner in the Terrace Café are available. For café reservations\, p
 lease call (513) 639-2986.</p>
END:VEVENT
END:VCALENDAR
