BEGIN:VCALENDAR
METHOD:PUBLISH
PRODID:-//github.com/rianjs/ical.net//NONSGML ical.net 4.0//EN
VERSION:2.0
BEGIN:VEVENT
DTSTAMP:20260420T100000Z
DTSTART:20210730T170000
LOCATION:Cincinnati Art Museum
SEQUENCE:0
SUMMARY:Art After Dark | A Monumental Celebration
UID:00000000-0000-0000-0000-000000000000
X-ALT-DESC;FMTTYPE=text/html:<div><span>Final Fridays at the museum are ba
 ck–join us for our first in person Art After Dark since February 2020! En
 joy live music from the </span><a rel="noreferrer noopener" tabindex="-1"
  href="https://www.mondaynightbigband.com/" target="_blank" title="https:
 //www.mondaynightbigband.com/">Monday Night Big Band</a><span> in the Ali
 ce Bimel Courtyard\, live music from </span><a rel="noreferrer noopener" 
 tabindex="-1" href="https://www.facebook.com/djetrayn/" target="_blank" t
 itle="https://www.facebook.com/djetrayn/">DJ ETrayn</a><span> on the Art 
 Climb\, swing dancing with </span><a rel="noreferrer noopener" tabindex="
 -1" href="https://pones.org/" target="_blank" title="https://pones.org/">
 Pones</a><span>\, food for purchase from </span><a rel="noreferrer noopen
 er" tabindex="-1" href="https://deweyspizza.com/" target="_blank" title="
 https://deweyspizza.com/">Dewey’s Pizza</a><span> and </span><a rel="nore
 ferrer noopener" tabindex="-1" href="https://sweetsandmeatsbbq.com/" targ
 et="_blank" title="https://sweetsandmeatsbbq.com/">Sweets &amp\; Meats BB
 Q</a><span>\, cash bars and free admission to special exhibition </span><
 em><span><a rel="noreferrer noopener" tabindex="-1" href="https://www.cin
 cinnatiartmuseum.org/art/exhibitions/upcoming-exhibitions/paintings-polit
 ics-and-the-monuments-men/" target="_blank" title="https://www.cincinnati
 artmuseum.org/art/exhibitions/upcoming-exhibitions/paintings-politics-and
 -the-monuments-men/">Paintings\, Politics\, and the Monuments Men</a></sp
 an></em><span>. #ArtAfterDarkCincy</span></div>\n<div></div>\n<div></div>
 \n<div></div>\n<div><strong>The timeline for the event includes:</strong>
 </div>\n<div>\n<ul>\n<li><strong>5–8 p.m.:</strong><span> </span>Live mus
 ic from DJ ETrayn outside on the Art Climb.</li>\n<li><strong>5–9 p.m.:</
 strong><span> </span>Food for purchase from Dewey’s Pizza and Sweets &amp
 \; Meats BBQ. Cash bars available throughout the museum. Attendees must b
 e 21+ to consume alcohol.</li>\n<li><strong>5–9 p.m.</strong>: Free admis
 sion to special exhibition<span> </span><em>Paintings\, Politics and the 
 Monuments Men</em><span> </span>in Galleries 234 and 235. Registration no
 t required.</li>\n<li><strong>6–8 p.m.:<span> </span></strong>Live music 
 from the Monday Night Big Band and swing dancing with Pones in the Alice 
 Bimel Courtyard.</li>\n</ul>\n</div>\n<div><span></span></div>\n<div><spa
 n>If you need accessibility accommodations for this event\, please email 
 <a href="mailto:access@cincyart.org">access@cincyart.org</a>. Please cont
 act us at least two weeks in advance to ensure accommodations can be made
 .</span></div>
END:VEVENT
END:VCALENDAR
