BEGIN:VCALENDAR
METHOD:PUBLISH
PRODID:-//github.com/rianjs/ical.net//NONSGML ical.net 4.0//EN
VERSION:2.0
BEGIN:VEVENT
DTSTAMP:20260421T105530Z
DTSTART:20230621T113000
LOCATION:Cincinnati Art Museum
SEQUENCE:0
SUMMARY: REC Reads
UID:00000000-0000-0000-0000-000000000000
X-ALT-DESC;FMTTYPE=text/html:<p><span>Bring your toddler or preschooler to
  the Rosenthal Education Center for a morning of art-themed story books\,
  songs\, and sensory activities. This <span style="font-size: 14px\;">30-
 minute</span> program will get your little one excited about art in a fun
  and interactive way. Join us every first and third Wednesday of the mont
 h for a fun filled story time and enjoy artmaking inspired by our current
  REC theme!</span></p>
END:VEVENT
END:VCALENDAR
