BEGIN:VCALENDAR
METHOD:PUBLISH
PRODID:-//github.com/rianjs/ical.net//NONSGML ical.net 4.0//EN
VERSION:2.0
BEGIN:VEVENT
DTSTAMP:20260421T105416Z
DTSTART:20230623T180000
LOCATION:Cincinnati Art Museum
SEQUENCE:0
SUMMARY:A Happening with Pablo
UID:00000000-0000-0000-0000-000000000000
X-ALT-DESC;FMTTYPE=text/html:<p><span>Reservations required. </span></p>\n
 <p><span>Join us at </span><strong>A Happening with Pablo</strong><span> 
 and be one of the first to visit the museum’s exciting new exhibition\, <
 /span><a href="https://www.cincinnatiartmuseum.org/art/exhibitions/upcomi
 ng-exhibitions/picasso-landscapes-out-of-bounds/"><em>Picasso Landscapes:
  Out of Bounds</em></a><span>! Plus\, you’ll enjoy an immersive experienc
 e created by <a href="https://theagar.com/">AGAR</a>\, live music from <a
  href="https://www.bluewaterkingsband.com/">Bluewater Kings Band</a>\, un
 ique menu items\, and festive cocktails—inside the museum and outdoors in
  the Alice Bimel Courtyard. </span></p>\n<h3><span class="bodIntro">We al
 so have a few surprises in store!</span></h3>\n<p>Proceeds will support y
 outh and family programs such as guided school tours\, <a href="https://w
 ww.cincinnatiartmuseum.org/events-programs/families-teens/cam-kids-day/">
 CAM Kids Days</a>\, and <a href="https://www.cincinnatiartmuseum.org/even
 ts-programs/accessibility/sensory-saturday/">Sensory Saturdays</a>. Proce
 eds will also support thousands of free public programs onsite and in Gre
 ater Cincinnati community.</p>\n<p>Guests must be 21+.</p>\n<hr />\n<p><s
 pan>If you have questions about this lecture\, please email </span><a hre
 f="mailto:lectures@cincyart.org.">lectures@cincyart.org.</a><span> </span
 ><em>If you need accessibility accommodations for this program or event\,
  please email<span> </span>access@cincyart.org.<span> </span>Please conta
 ct us in advance to ensure accommodations can be made.</em></p>
END:VEVENT
END:VCALENDAR
