BEGIN:VCALENDAR
METHOD:PUBLISH
PRODID:-//github.com/rianjs/ical.net//NONSGML ical.net 4.0//EN
VERSION:2.0
BEGIN:VEVENT
DTSTAMP:20260426T030249Z
DTSTART:20240310T140000
LOCATION:Cincinnati Art Museum
SEQUENCE:0
SUMMARY:Sold Out–The 27th Annual Kreines Lecture on Decorative Arts and De
 sign–Glass Art: A New Interpretation of American Indian Cultures
UID:00000000-0000-0000-0000-000000000000
X-ALT-DESC;FMTTYPE=text/html:<p><strong>Free. Reservations required. </str
 ong></p>\n<p><strong>*Limited tickets available.*</strong></p>\n<p><span>
 The 1960s witnessed the beginning of two influential art movements in the
  United States: Studio Glass Art and contemporary Native American Arts. B
 oth intersected in the 1970s at the Institute of American Indian Arts (IA
 IA) in Santa Fe\, New Mexico\, with the founding of the Native Glass Art 
 movement.</span> </p>\n<p><span>Join us for the 27th Annual Kreines Lectu
 re\, where scholar and curator Dr. Letitia Chambers (Cherokee) will discu
 ss the exhibition </span><em><span>Clearly Indigenous: Native Visions Rei
 magined in Glass. </span></em><span>Her talk\, “Glass Art: A New Interpre
 tation of American Indian Cultures\,” will explore how these two movement
 s came together and how Native artists today are melding the properties i
 nherent in glass art with their cultural ways of knowing.</span> </p>\n<p
 ><span>Please join us for the lecture with lite bites to follow.</span> <
 /p>\n<p> </p>\n<p><strong><span>About the Speaker:</span></strong> </p>\n
 <p>Letitia Chambers\, PhD\, is recognized for her accomplishments as a CE
 O\, her contributions to public policy\, and her service to educational a
 nd non-profit organizations.</p>\n<p>Chambers private sector experience i
 ncludes serving as CEO for 20 years of a highly successful Washington\, D
 C based consulting firm\, which she sold to a large global consulting fir
 m where she became a Managing Director. </p>\n<p>Chambers then served as 
 CEO of the Heard Museum\, where she led major financial reforms and made 
 significant improvements in facilities. Since retiring from the Heard\, s
 he has maintained a consulting practice and curated several major exhibit
 ions\, including the acclaimed <em>Clearly Indigenous: Native Visions Rei
 magined in Glas</em>s which is currently traveling to major museums acros
 s the country.</p>\n<p>Earlier in Chambers career\, in the 1970s\, she se
 rved on the U.S. Senate staff as the first woman to be named Staff Direct
 or of a standing committee. In 1992\, she served as the Chief Budget Advi
 sor to the Clinton/Gore transition\, and in 1996\, Ambassador Chambers se
 rved as the U.S. Representative to the United Nations General Assembly. I
 n 2004–2005\, she headed the state system of higher education in New Mexi
 co.</p>\n<p>Chambers has served on several corporate Boards of Directors\
 , as well as on Boards of numerous educational and non-profit organizatio
 ns\, including as former Chair of the Association of Tribal Archives\, Li
 braries and Museums and former Chair of the Santa Fe Botanical Garden. </
 p>\n<p>She has authored numerous articles and reports and is also the aut
 hor of C<em>learly Indigenous: Native Visions Reimagined in Glass</em>\, 
 a book published by the Museum of New Mexico Press and now in its third p
 rinting.</p>\n<p>Chambers resides in Santa Fe\, New Mexico with her husba
 nd\, the Honorable Peter P. Smith\, former U.S. Congressman (VT.) </p>\n<
 p><span data-ccp-charstyle="normaltextrun" data-ccp-charstyle-defn="{&quo
 t\;ObjectId&quot\;:&quot\;1770d163-6238-4238-9769-fd59de0a78ad|6&quot\;\,
 &quot\;ClassId&quot\;:1073872969\,&quot\;Properties&quot\;:[469775450\,&q
 uot\;normaltextrun&quot\;\,201340122\,&quot\;1&quot\;\,134233614\,&quot\;
 true&quot\;\,469778129\,&quot\;normaltextrun&quot\;\,335572020\,&quot\;1&
 quot\;\,469778324\,&quot\;Default Paragraph Font&quot\;]}">*</span><em><s
 pan data-ccp-charstyle="normaltextrun">Please note: Museum lectures will 
 take place in Gallery 105 during the renovation of the lower level.</span
 ></em><span data-ccp-charstyle="normaltextrun">  </span><span data-ccp-ch
 arstyle="eop" data-ccp-charstyle-defn="{&quot\;ObjectId&quot\;:&quot\;177
 0d163-6238-4238-9769-fd59de0a78ad|7&quot\;\,&quot\;ClassId&quot\;:1073872
 969\,&quot\;Properties&quot\;:[469775450\,&quot\;eop&quot\;\,201340122\,&
 quot\;1&quot\;\,134233614\,&quot\;true&quot\;\,469778129\,&quot\;eop&quot
 \;\,335572020\,&quot\;1&quot\;\,469778324\,&quot\;Default Paragraph Font&
 quot\;]}"> </span> </p>\n<p><strong>Presented by Mrs. Kenneth Kreines and
  the Decorative Arts Society of Cincinnati in Memory of Dr. Kenneth Krein
 es. </strong></p>\n<hr />\n<p><em><span data-ccp-charstyle="normaltextrun
 ">If you need accessibility accommodations\, please contact us in advance
  at </span></em><a href="mailto:access@cincyart.org"><em><span data-ccp-c
 harstyle="Hyperlink">access@cincyart.org</span></em></a><em><span data-cc
 p-charstyle="normaltextrun">.</span></em><span data-ccp-charstyle="normal
 textrun">  </span><span data-ccp-charstyle="scxw22034461" data-ccp-charst
 yle-defn="{&quot\;ObjectId&quot\;:&quot\;1770d163-6238-4238-9769-fd59de0a
 78ad|8&quot\;\,&quot\;ClassId&quot\;:1073872969\,&quot\;Properties&quot\;
 :[469775450\,&quot\;scxw22034461&quot\;\,201340122\,&quot\;1&quot\;\,1342
 33614\,&quot\;true&quot\;\,469778129\,&quot\;scxw22034461&quot\;\,3355720
 20\,&quot\;1&quot\;\,469778324\,&quot\;Default Paragraph Font&quot\;]}"> 
 </span><span> <br /></span></p>
END:VEVENT
END:VCALENDAR
