BEGIN:VCALENDAR
METHOD:PUBLISH
PRODID:-//github.com/rianjs/ical.net//NONSGML ical.net 4.0//EN
VERSION:2.0
BEGIN:VEVENT
DTSTAMP:20260421T104923Z
DTSTART:20230316T170000
LOCATION:Cincinnati Art Museum
SEQUENCE:0
SUMMARY:Members Opening and NCECA Open House - Roberto Lugo: Hi-Def Archiv
 es
UID:00000000-0000-0000-0000-000000000000
X-ALT-DESC;FMTTYPE=text/html:<p data-ogsb="white"><span data-ogsc="black">
 <strong>Fountain Room (Gallery 126)<br />Free for Members and NCECA Guest
 s</strong></span></p>\n<p>Roberto Lugo (Puerto Rican-American\, b. 1981) 
 draws from his lived experience and deep knowledge of ceramic history to 
 create works that elevate the stories of those historically absent from t
 he decoration of extravagant examples of pottery. Lugo’s multicultural ma
 shups often combine classic forms and patterns with elements of hip-hop.<
 /p>\n<p data-ogsb="white"><span>On Thursday evening\, March 16\, museum m
 embers and NCECA Conference Attendees are invited to see </span><span cla
 ss="markblthmrt81" data-markjs="true" data-ogac="" data-ogab="" data-ogsc
 ="" data-ogsb="">Roberto</span><span> creating work in the galleries and 
 enjoy light bites and a cash bar in the Fountain Room (Gallery 126).</spa
 n></p>\n<p data-ogsb="white"><span><span class="bodSmall">Photo by Ryan C
 ollerd\, Courtesy of the Pew Center for Arts and Heritage</span></span></
 p>
END:VEVENT
END:VCALENDAR
