BEGIN:VCALENDAR
METHOD:PUBLISH
PRODID:-//github.com/rianjs/ical.net//NONSGML ical.net 4.0//EN
VERSION:2.0
BEGIN:VEVENT
DTSTAMP:20260425T113814Z
DTSTART:20260502T100000
LOCATION:Cincinnati Art Museum
SEQUENCE:0
SUMMARY:Sold Out – Saturday Morning Art Class: Textiles
UID:00000000-0000-0000-0000-000000000000
X-ALT-DESC;FMTTYPE=text/html:<p><strong>Sold out.<br>Registration required
 . $40 per child for a four-class session.</strong></p>\n<p>This month\, e
 xplore fashions and fabrics on display in CAM’s galleries\, then learn ho
 w to use textiles to make your own unique wearables and artwork.</p>\n<h3
 >About Saturday Morning Art Class</h3>\n<p>Build your child’s creative co
 nfidence and foundational artistic skills in this drop-off program for yo
 ung artists ages 9–12. Each monthly four-class session\, taught by instru
 ctors from the Art Academy of Cincinnati\, focuses on a specific medium o
 r technique—such as drawing\, painting\, printmaking\, or textiles. Sessi
 ons begin with a guided art viewing experience in the museum’s galleries\
 , where children will engage with inspiring works and ideas. Then\, in ou
 r ground-floor classrooms\, they will dive into hands-on learning and art
  making\, applying what they’ve seen to create their own original pieces.
 &nbsp\;<a href="/events-programs/families-teens/saturday-morning-art-clas
 s/" title="Saturday Morning Art Class"><strong>Learn more and register fo
 r Saturday Morning Art Class.</strong></a></p>\n<div class="OutlineElemen
 t Ltr SCXW266267411 BCX0">\n<p class="Paragraph SCXW266267411 BCX0">Pleas
 e contact <a rel="noreferrer noopener" href="mailto:programs@cincyart.org
 " target="_blank" class="Hyperlink SCXW266267411 BCX0">programs@cincyart.
 org</a> with any questions.&nbsp\;</p>\n<hr>\n<p class="Paragraph SCXW266
 267411 BCX0"><em>If you need&nbsp\;accessibility accommodations\, please 
 contact us in advance at&nbsp\;</em><em><a href="mailto:access@cincyart.o
 rg">access@cincyart.org</a>&nbsp\;or fill out&nbsp\;<a href="https://form
 s.office.com/Pages/ResponsePage.aspx?id=Gm-hEwG4gEOJzKydDKuIkMouQ0Sbq_FHq
 0MNY45l4U1UMTYxM0ZJRjFENlBYQzlSWDlWT0NEVDNBNS4u" title="https://forms.off
 ice.com/Pages/ResponsePage.aspx?id=Gm-hEwG4gEOJzKydDKuIkMouQ0Sbq_FHq0MNY4
 5l4U1UMTYxM0ZJRjFENlBYQzlSWDlWT0NEVDNBNS4u">the accessibility request for
 m.</a></em></p>\n<p class="Paragraph SCXW266267411 BCX0">&nbsp\;</p>\n</d
 iv>
END:VEVENT
END:VCALENDAR
