BEGIN:VCALENDAR
METHOD:PUBLISH
PRODID:-//github.com/rianjs/ical.net//NONSGML ical.net 4.0//EN
VERSION:2.0
BEGIN:VEVENT
DTSTAMP:20260419T144019Z
DTSTART:20241019T130000
LOCATION:Cincinnati Art Museum
SEQUENCE:0
SUMMARY:Create Plus: Discovering Ansel Adams with Artist\, Jessica Held
UID:00000000-0000-0000-0000-000000000000
X-ALT-DESC;FMTTYPE=text/html:<p><strong>Registration required. Registratio
 n opens one month in advance.<br /></strong><strong>CAM members: $20<br /
 ></strong><strong>General public: $30</strong></p>\n<div class="x_element
 ToProof">Join artist\, Jessica Held for an exploration of the exhibition<
 span> <a href="/art/exhibitions/discovering-ansel-adams/"><em>Discovering
  Ansel Adams</em></a> followed by a hands-on art-making experience combin
 g nature and photography. Participants will create cyanotype photograms u
 sing pressed leaves and flowers gently harvested from the museum's ground
 s and the sun. </span></div>\n<div class="x_elementToProof"></div>\n<div 
 class="x_elementToProof">As part of the class will take place outside\, p
 lease dress accordingly.</div>\n<div class="x_elementToProof"></div>\n<di
 v class="x_elementToProof"><span class="bodIntro"><strong>About the artis
 t</strong></span></div>\n<div class="x_elementToProof">Jessica Held is a 
 painter and photographer based in Athens\, Ohio. She creates\, exhibits\,
  and publishes her work while also running her small business\, Flux and 
 Function LLC. Jessica serves as the Community Marketplace Coordinator for
  the Ohio Pawpaw Festival and recently collaborated on publishing a pawpa
 w-inspired anthology. Passionate about fostering creativity and community
 \, she brings extensive experience as a teaching artist to her roles.</di
 v>\n<div class="x_elementToProof"></div>\n<hr />\n<p><span><em>If you nee
 d accessibility accommodations\, please contact us in advance at </em><a 
 rel="noreferrer noopener" href="mailto:access@cincyart.org" target="_blan
 k" title="mailto:access@cincyart.org" class="fui-Link ___1rxvrpe f2hkw1w 
 f3rmtva f1ewtqcl fyind8e f1k6fduh f1w7gpdv fk6fouc fjoy568 figsok6 f1hu3p
 q6 f11qmguv f19f4twv f1tyq0we f1g0x7ka fhxju0i f1qch9an f1cnd47f fqv5qza 
 f1vmzxwi f1o700av f13mvf36 f1cmlufx f9n3di6 f1ids18y f1tx3yz7 f1deo86v f1
 eh06m1 f1iescvh fhgqx19 f1olyrje f1p93eir f1nev41a f1h8hb77 f1lqvz6u f10a
 w75t fsle3fq f17ae5zn" aria-label="Link access@cincyart.org"><em>access@c
 incyart.org</em></a> <em>or fill out </em><a rel="noreferrer noopener" hr
 ef="https://forms.office.com/Pages/ResponsePage.aspx?id=Gm-hEwG4gEOJzKydD
 KuIkMouQ0Sbq_FHq0MNY45l4U1UMTYxM0ZJRjFENlBYQzlSWDlWT0NEVDNBNS4u" target="
 _blank" title="https://forms.office.com/pages/responsepage.aspx?id=gm-hew
 g4geojzkyddkuikmouq0sbq_fhq0mny45l4u1umtyxm0zjrjfenlbyqzlswdlwt0nevdnbns4
 u" class="fui-Link ___1rxvrpe f2hkw1w f3rmtva f1ewtqcl fyind8e f1k6fduh f
 1w7gpdv fk6fouc fjoy568 figsok6 f1hu3pq6 f11qmguv f19f4twv f1tyq0we f1g0x
 7ka fhxju0i f1qch9an f1cnd47f fqv5qza f1vmzxwi f1o700av f13mvf36 f1cmlufx
  f9n3di6 f1ids18y f1tx3yz7 f1deo86v f1eh06m1 f1iescvh fhgqx19 f1olyrje f1
 p93eir f1nev41a f1h8hb77 f1lqvz6u f10aw75t fsle3fq f17ae5zn" aria-label="
 Link the accessibility request form. "><em>the accessibility request form
 .</em></a></span></p>\n<p> </p>\n<p> </p>
END:VEVENT
END:VCALENDAR
